BEGIN:VCALENDAR
VERSION:2.0
PRODID:-//Genetic Engineering and Society Center - ECPv6.15.20//NONSGML v1.0//EN
CALSCALE:GREGORIAN
METHOD:PUBLISH
X-WR-CALNAME:Genetic Engineering and Society Center
X-ORIGINAL-URL:https://ges.research.ncsu.edu
X-WR-CALDESC:Events for Genetic Engineering and Society Center
REFRESH-INTERVAL;VALUE=DURATION:PT1H
X-Robots-Tag:noindex
X-PUBLISHED-TTL:PT1H
BEGIN:VTIMEZONE
TZID:America/New_York
BEGIN:DAYLIGHT
TZOFFSETFROM:-0500
TZOFFSETTO:-0400
TZNAME:EDT
DTSTART:20160313T070000
END:DAYLIGHT
BEGIN:STANDARD
TZOFFSETFROM:-0400
TZOFFSETTO:-0500
TZNAME:EST
DTSTART:20161106T060000
END:STANDARD
BEGIN:DAYLIGHT
TZOFFSETFROM:-0500
TZOFFSETTO:-0400
TZNAME:EDT
DTSTART:20170312T070000
END:DAYLIGHT
BEGIN:STANDARD
TZOFFSETFROM:-0400
TZOFFSETTO:-0500
TZNAME:EST
DTSTART:20171105T060000
END:STANDARD
BEGIN:DAYLIGHT
TZOFFSETFROM:-0500
TZOFFSETTO:-0400
TZNAME:EDT
DTSTART:20180311T070000
END:DAYLIGHT
BEGIN:STANDARD
TZOFFSETFROM:-0400
TZOFFSETTO:-0500
TZNAME:EST
DTSTART:20181104T060000
END:STANDARD
END:VTIMEZONE
BEGIN:VEVENT
DTSTART;TZID=America/New_York:20170207T120000
DTEND;TZID=America/New_York:20170207T130000
DTSTAMP:20260425T220209
CREATED:20161213T210229Z
LAST-MODIFIED:20161219T182901Z
UID:10000061-1486468800-1486472400@ges.research.ncsu.edu
SUMMARY:Dominic Glover (Institute of Development Studies)
DESCRIPTION:Dominic Glover – Research Fellow\nDominic Glover specialises in the study of technology and processes of socio-technical change\, particularly in small-scale farming in the global South. He has more than 14 years of experience in research\, policy analysis and communication on technological change\, innovation\, knowledge systems\, governance and policy processes relating to agriculture\, biotechnology and rural development.\nVisit IDS bio website. \n\n\nColloquiums are held at 12 PM in the 1911 Building\, Room 129. If you would like to attend lunch with speakers\, contact Fred_Gould@ncsu.edu.
URL:https://ges.research.ncsu.edu/event/dominic-glover-institute-of-development-studies/
LOCATION:1911 Building\, Room 129 (North Campus)\, 10 Current Dr.\, Raleigh\, NC\, United States
CATEGORIES:Colloquium
ORGANIZER;CN="GES Center":MAILTO:gesocietycenter@ncsu.edu
END:VEVENT
END:VCALENDAR