BEGIN:VCALENDAR
VERSION:2.0
PRODID:-//Genetic Engineering and Society Center - ECPv6.15.20//NONSGML v1.0//EN
CALSCALE:GREGORIAN
METHOD:PUBLISH
X-WR-CALNAME:Genetic Engineering and Society Center
X-ORIGINAL-URL:https://ges.research.ncsu.edu
X-WR-CALDESC:Events for Genetic Engineering and Society Center
REFRESH-INTERVAL;VALUE=DURATION:PT1H
X-Robots-Tag:noindex
X-PUBLISHED-TTL:PT1H
BEGIN:VTIMEZONE
TZID:America/New_York
BEGIN:DAYLIGHT
TZOFFSETFROM:-0500
TZOFFSETTO:-0400
TZNAME:EDT
DTSTART:20170312T070000
END:DAYLIGHT
BEGIN:STANDARD
TZOFFSETFROM:-0400
TZOFFSETTO:-0500
TZNAME:EST
DTSTART:20171105T060000
END:STANDARD
BEGIN:DAYLIGHT
TZOFFSETFROM:-0500
TZOFFSETTO:-0400
TZNAME:EDT
DTSTART:20180311T070000
END:DAYLIGHT
BEGIN:STANDARD
TZOFFSETFROM:-0400
TZOFFSETTO:-0500
TZNAME:EST
DTSTART:20181104T060000
END:STANDARD
BEGIN:DAYLIGHT
TZOFFSETFROM:-0500
TZOFFSETTO:-0400
TZNAME:EDT
DTSTART:20190310T070000
END:DAYLIGHT
BEGIN:STANDARD
TZOFFSETFROM:-0400
TZOFFSETTO:-0500
TZNAME:EST
DTSTART:20191103T060000
END:STANDARD
END:VTIMEZONE
BEGIN:VEVENT
DTSTART;TZID=America/New_York:20180130T120000
DTEND;TZID=America/New_York:20180130T130000
DTSTAMP:20260424T045732
CREATED:20180821T142851Z
LAST-MODIFIED:20180821T142851Z
UID:10000104-1517313600-1517317200@ges.research.ncsu.edu
SUMMARY:GES Colloquium - Larisa Rudenko: Goldilocks and the Regulatory Bears
DESCRIPTION:Goldilocks and the Regulatory Bears&nbsp; \nDr. Larisa Rudenko\, Visiting Scholar\, Emerging Technology\, MIT&nbsp;&nbsp; \nDetails + abstract:&nbsp;https://mailchi.mp/fc929923e1c0/gescolloquium013018GES Colloquium home:&nbsp;https://ges.research.ncsu.edu/events/colloquiums/&nbsp;&nbsp; \nContact Jason Delborne with questions at jadelbor@ncsu.edu “
URL:https://ges.research.ncsu.edu/event/ges-colloquium-larisa-rudenko-goldilocks-and-the-regulatory-bears/
LOCATION:NC
CATEGORIES:Colloquium
END:VEVENT
BEGIN:VEVENT
DTSTART;TZID=America/New_York:20180130T223000
DTEND;TZID=America/New_York:20180131T000000
DTSTAMP:20260424T045732
CREATED:20180821T142846Z
LAST-MODIFIED:20180821T142846Z
UID:10000103-1517351400-1517356800@ges.research.ncsu.edu
SUMMARY:GES Public Lecture: Dr. Larisa Rudenko\, FDA/MIT Visiting Scholar
DESCRIPTION:Larisa Rudenko: Tales from the Biotech Trenches \nDetails + registration:&nbsp;ges.research.ncsu.edu/events/larisa-rudenko/Live-stream link:&nbsp;https://www.youtube.com/watch?v=xfiQbrdVa2A \nContact Sharon Stauffer at sastauff@ncsu.edu with questions. “
URL:https://ges.research.ncsu.edu/event/ges-public-lecture-dr-larisa-rudenko-fda-mit-visiting-scholar/
LOCATION:NC
CATEGORIES:Colloquium
END:VEVENT
END:VCALENDAR