BEGIN:VCALENDAR
VERSION:2.0
PRODID:-//Genetic Engineering and Society Center - ECPv6.15.20//NONSGML v1.0//EN
CALSCALE:GREGORIAN
METHOD:PUBLISH
X-WR-CALNAME:Genetic Engineering and Society Center
X-ORIGINAL-URL:https://ges.research.ncsu.edu
X-WR-CALDESC:Events for Genetic Engineering and Society Center
REFRESH-INTERVAL;VALUE=DURATION:PT1H
X-Robots-Tag:noindex
X-PUBLISHED-TTL:PT1H
BEGIN:VTIMEZONE
TZID:America/New_York
BEGIN:DAYLIGHT
TZOFFSETFROM:-0500
TZOFFSETTO:-0400
TZNAME:EDT
DTSTART:20170312T070000
END:DAYLIGHT
BEGIN:STANDARD
TZOFFSETFROM:-0400
TZOFFSETTO:-0500
TZNAME:EST
DTSTART:20171105T060000
END:STANDARD
BEGIN:DAYLIGHT
TZOFFSETFROM:-0500
TZOFFSETTO:-0400
TZNAME:EDT
DTSTART:20180311T070000
END:DAYLIGHT
BEGIN:STANDARD
TZOFFSETFROM:-0400
TZOFFSETTO:-0500
TZNAME:EST
DTSTART:20181104T060000
END:STANDARD
BEGIN:DAYLIGHT
TZOFFSETFROM:-0500
TZOFFSETTO:-0400
TZNAME:EDT
DTSTART:20190310T070000
END:DAYLIGHT
BEGIN:STANDARD
TZOFFSETFROM:-0400
TZOFFSETTO:-0500
TZNAME:EST
DTSTART:20191103T060000
END:STANDARD
END:VTIMEZONE
BEGIN:VEVENT
DTSTART;TZID=America/New_York:20181009T120000
DTEND;TZID=America/New_York:20181009T130000
DTSTAMP:20260425T142141
CREATED:20180821T142951Z
LAST-MODIFIED:20181005T185732Z
UID:10000129-1539086400-1539090000@ges.research.ncsu.edu
SUMMARY:Shi Chen - 'Fake News: GMOs and Zika'
DESCRIPTION:GES Colloquium | YouTube: LIVE STREAM \nMisinformation regarding Zika and GMOs on Social Media\nSpeaker:\nShi Chen\, Assistant Professor\, Public Health Sciences\, UNC Charlotte (link) \nAbstract:\nSocial media has become an integral part of public health communication. More and more individuals first resort to social media for information during health crisis and disease outbreaks. While the low cost and easy access of social media make it more convenient for health communicators to disseminate useful information to the general public\, they also have the side effect of enabling wide and fast spread of fake health news. \nIt is critical to understand how fake health news spreads and competes with its real counterpart on social media. We track and compare the information flow dynamics of fake and real health news on Twitter using dynamic network analysis. The tweets\, retweets\, and comments about the 2016 Zika outbreak are chosen as the research target of this project. Specifically\, this project will identify the most popular Zika-related fake news (including those with GMOs) and real news published on Twitter during the year of 2016\, construct the information dissemination networks for each of these tweets\, compare structural differences between their information dissemination networks\, and identify and examine how key users with strategic positions in these networks contribute to the flow of fake and real news about Zika. \nBio:\nAn assistant professor of Health Informatics and Analytics at UNC Charlotte\, Dr. Chen’s research areas include data analysis and mathematical modeling of healthcare associated infections\, vector-borne diseases\, and online health information dissemination especially on social media. Some key concepts of Dr. Chen’s research in epidemiology and ecology include heterogeneity\, nonlinearity\, stochasticity\, and complexity. Dr. Chen has been collaborating with scholars in the Chinese Academy of Sciences (CAS) to investigate how climate and socio-political factors influence nomadic livestock population dynamics in the past 40 years in Inner Mongolia\, China. Notably\, Dr. Chen holds two PhDs\, in both Entomology and Operations Research from Penn State University.
URL:https://ges.research.ncsu.edu/event/shi-chen-fake-news-gmos-zika/
LOCATION:1911 Building\, Room 129 (North Campus)\, 10 Current Dr.\, Raleigh\, NC\, United States
CATEGORIES:Colloquium
ATTACH;FMTTYPE=image/jpeg:https://ges.research.ncsu.edu/wp-content/uploads/2018/08/10-02-18-colloquium-chen-simple-card.jpg
ORGANIZER;CN="GES Center":MAILTO:gesocietycenter@ncsu.edu
END:VEVENT
END:VCALENDAR